BEGIN:VCALENDAR
VERSION:2.0
PRODID:-//DRC Services - ECPv6.15.15//NONSGML v1.0//EN
CALSCALE:GREGORIAN
METHOD:PUBLISH
X-WR-CALNAME:DRC Services
X-ORIGINAL-URL:https://www.drcservices.org
X-WR-CALDESC:Events for DRC Services
REFRESH-INTERVAL;VALUE=DURATION:PT1H
X-Robots-Tag:noindex
X-PUBLISHED-TTL:PT1H
BEGIN:VTIMEZONE
TZID:America/New_York
BEGIN:DAYLIGHT
TZOFFSETFROM:-0500
TZOFFSETTO:-0400
TZNAME:EDT
DTSTART:20240310T070000
END:DAYLIGHT
BEGIN:STANDARD
TZOFFSETFROM:-0400
TZOFFSETTO:-0500
TZNAME:EST
DTSTART:20241103T060000
END:STANDARD
BEGIN:DAYLIGHT
TZOFFSETFROM:-0500
TZOFFSETTO:-0400
TZNAME:EDT
DTSTART:20250309T070000
END:DAYLIGHT
BEGIN:STANDARD
TZOFFSETFROM:-0400
TZOFFSETTO:-0500
TZNAME:EST
DTSTART:20251102T060000
END:STANDARD
BEGIN:DAYLIGHT
TZOFFSETFROM:-0500
TZOFFSETTO:-0400
TZNAME:EDT
DTSTART:20260308T070000
END:DAYLIGHT
BEGIN:STANDARD
TZOFFSETFROM:-0400
TZOFFSETTO:-0500
TZNAME:EST
DTSTART:20261101T060000
END:STANDARD
END:VTIMEZONE
BEGIN:VEVENT
DTSTART;TZID=America/New_York:20251211T150000
DTEND;TZID=America/New_York:20251211T180000
DTSTAMP:20260421T182853
CREATED:20250213T183444Z
LAST-MODIFIED:20251106T191049Z
UID:8278-1765465200-1765476000@www.drcservices.org
SUMMARY:DRC Staff and Volunteer Holiday Party!
DESCRIPTION:Join us for our annual Holiday Party!\nDRC Staff and volunteers are welcome to gather for refreshments\, gifts\, and some fun holiday activities.  \nIt’s a chance to relax\, connect\, and share our appreciation for one another.\nDate: December 11\, 2025Time: 3:00-6:00pm – drop in anytime and stay as long as you’d like\nLocation: DRC Middletown Office\, 210 E Main St \nWe hope to see you there!
URL:https://www.drcservices.org/training/drc-staff-and-volunteer-holiday-party/
LOCATION:DRC Office Middletown\, 210 East Main Street\, Middletown\, NY\, 10941\, United States
END:VEVENT
END:VCALENDAR